BEGIN:VCALENDAR
PRODID:-//Microsoft Corporation//Outlook 12.0 MIMEDIR//EN
VERSION:2.0
CALSCALE:GREGORIAN
BEGIN:VEVENT
UID: 34373169-16ed-4af0-8807-2d4ed9f9d2ab
SUMMARY:Loeng Riigiteaduste Seltsilt (RTS) 10.-12.klassile aulas
DTSTAMP:20241030T130000
DTSTART:20241030T130000
DTEND:20241030T142000
LOCATION:
DESCRIPTION: <p>Riigiteaduste Selts on Tartu Ülikooli riigiteaduste eriala tudengeid ühendav organisatsioon, mille eesmärk on tutvustada poliitikas ja maailmas toimuvat gümnasistidele lähemalt. Korraldavad ettekandeid ühiskonnas aktuaalsetel teemadel, et äratada noortes huvi poliitika ning riigiteaduste õppesuuna vastu.<br>Teeme Euroopa Liidu parlamendi minimatket.<br>Seotud majanduse, ühiskonnaõpetuse ja loengukursusega.</p><p><strong>Link: </strong>https://www.antslakk.edu.ee/et/sundmuste-kalender/loeng-riigiteaduste-seltsilt-rts-10-12klassile-aulas</p><p><strong>Hind: </strong></p>
STATUS:CONFIRMED
SEQUENCE:3
X-ALT-DESC;FMTTYPE=text/html:<p>Riigiteaduste Selts on Tartu Ülikooli riigiteaduste eriala tudengeid ühendav organisatsioon, mille eesmärk on tutvustada poliitikas ja maailmas toimuvat gümnasistidele lähemalt. Korraldavad ettekandeid ühiskonnas aktuaalsetel teemadel, et äratada noortes huvi poliitika ning riigiteaduste õppesuuna vastu.<br>Teeme Euroopa Liidu parlamendi minimatket.<br>Seotud majanduse, ühiskonnaõpetuse ja loengukursusega.</p><p><strong>Link: </strong>https://www.antslakk.edu.ee/et/sundmuste-kalender/loeng-riigiteaduste-seltsilt-rts-10-12klassile-aulas</p><p><strong>Hind: </strong></p>
X-MICROSOFT-CDO-BUSYSTATUS:OOF
X-MICROSOFT-CDO-IMPORTANCE:1
X-MICROSOFT-DISALLOW-COUNTER:FALSE
X-MS-OLK-ALLOWEXTERNCHECK:TRUE
X-MS-OLK-CONFTYPE:0
X-MICROSOFT-CDO-ALLDAYEVENT:
X-MICROSOFT-MSNCALENDAR-ALLDAYEVENT:
END:VEVENT
END:VCALENDAR